BEGIN:VCALENDAR
VERSION:2.0
PRODID:-//Department Of Education//98b71f0c-4395-40b1-a026-88e8d9cdfc19
BEGIN:VTIMEZONE
TZID:Australia/Sydney
TZURL:http://tzurl.org/zoneinfo-outlook/Australia/Sydney
X-LIC-LOCATION:Australia/Sydney
BEGIN:STANDARD
TZOFFSETFROM:+1100
TZOFFSETTO:+1000
TZNAME:AEST
DTSTART:19700405T030000
RRULE:FREQ=YEARLY;BYMONTH=4;BYDAY=1SU
END:STANDARD
BEGIN:DAYLIGHT
TZOFFSETFROM:+1000
TZOFFSETTO:+1100
TZNAME:AEDT
DTSTART:19701004T020000
RRULE:FREQ=YEARLY;BYMONTH=10;BYDAY=1SU
END:DAYLIGHT
END:VTIMEZONE
CALSCALE:GREGORIAN
X-WR-TIMEZONE:Australia/Sydney
BEGIN:VEVENT
DTSTART;VALUE=DATE:20161216
DTEND;VALUE=DATE:20161217
DTSTAMP:20161216T000000Z
UID:39b03f94-401f-48d6-9382-37941f442e57
LOCATION:
SUMMARY;LANGUAGE=en-us:Last Day of Term 4, 2016
SEQUENCE:0
DESCRIPTION:Last day of school for 2016
END:VEVENT
TRANSP:TRANSPARENT
END:VCALENDAR
