BEGIN:VCALENDAR
VERSION:2.0
PRODID:-//Department Of Education//37c82d19-0ab1-41bf-9d90-a9d634d98718
BEGIN:VTIMEZONE
TZID:Australia/Sydney
TZURL:http://tzurl.org/zoneinfo-outlook/Australia/Sydney
X-LIC-LOCATION:Australia/Sydney
BEGIN:STANDARD
TZOFFSETFROM:+1100
TZOFFSETTO:+1000
TZNAME:AEST
DTSTART:19700405T030000
RRULE:FREQ=YEARLY;BYMONTH=4;BYDAY=1SU
END:STANDARD
BEGIN:DAYLIGHT
TZOFFSETFROM:+1000
TZOFFSETTO:+1100
TZNAME:AEDT
DTSTART:19701004T020000
RRULE:FREQ=YEARLY;BYMONTH=10;BYDAY=1SU
END:DAYLIGHT
END:VTIMEZONE
CALSCALE:GREGORIAN
X-WR-TIMEZONE:Australia/Sydney
BEGIN:VEVENT
DTSTART;VALUE=DATE:20161206
DTEND;VALUE=DATE:20161207
DTSTAMP:20161206T000000Z
UID:b44e205f-4938-40ae-8d42-2f67ceba9534
LOCATION:
SUMMARY;LANGUAGE=en-us:MSHS Open Day
SEQUENCE:0
DESCRIPTION:High school open day
END:VEVENT
TRANSP:TRANSPARENT
END:VCALENDAR
