BEGIN:VCALENDAR
VERSION:2.0
PRODID:-//Department Of Education//b5196202-6063-40ef-a3b8-5e684acfeccc
BEGIN:VTIMEZONE
TZID:Australia/Sydney
TZURL:http://tzurl.org/zoneinfo-outlook/Australia/Sydney
X-LIC-LOCATION:Australia/Sydney
BEGIN:STANDARD
TZOFFSETFROM:+1100
TZOFFSETTO:+1000
TZNAME:AEST
DTSTART:19700405T030000
RRULE:FREQ=YEARLY;BYMONTH=4;BYDAY=1SU
END:STANDARD
BEGIN:DAYLIGHT
TZOFFSETFROM:+1000
TZOFFSETTO:+1100
TZNAME:AEDT
DTSTART:19701004T020000
RRULE:FREQ=YEARLY;BYMONTH=10;BYDAY=1SU
END:DAYLIGHT
END:VTIMEZONE
CALSCALE:GREGORIAN
X-WR-TIMEZONE:Australia/Sydney
BEGIN:VEVENT
DTSTART;VALUE=DATE:20161215
DTEND;VALUE=DATE:20161216
DTSTAMP:20161215T000000Z
UID:7aafcebc-8bc4-43e0-8874-e3a3d2197cc7
LOCATION:
SUMMARY;LANGUAGE=en-us:Picnic Day
SEQUENCE:0
DESCRIPTION:End of year Picnic day
END:VEVENT
TRANSP:TRANSPARENT
END:VCALENDAR
