BEGIN:VCALENDAR
VERSION:2.0
PRODID:-//Department Of Education//433bcf2d-77f2-4537-af61-20c6328df0f0
BEGIN:VTIMEZONE
TZID:Australia/Sydney
TZURL:http://tzurl.org/zoneinfo-outlook/Australia/Sydney
X-LIC-LOCATION:Australia/Sydney
BEGIN:STANDARD
TZOFFSETFROM:+1100
TZOFFSETTO:+1000
TZNAME:AEST
DTSTART:19700405T030000
RRULE:FREQ=YEARLY;BYMONTH=4;BYDAY=1SU
END:STANDARD
BEGIN:DAYLIGHT
TZOFFSETFROM:+1000
TZOFFSETTO:+1100
TZNAME:AEDT
DTSTART:19701004T020000
RRULE:FREQ=YEARLY;BYMONTH=10;BYDAY=1SU
END:DAYLIGHT
END:VTIMEZONE
CALSCALE:GREGORIAN
X-WR-TIMEZONE:Australia/Sydney
BEGIN:VEVENT
DTSTART;TZID=Australia/Sydney:20161208T091500
DTEND;TZID=Australia/Sydney:20161208T120000
DTSTAMP:20161208T091500Z
UID:54127f2c-7580-4f60-85a4-5cbd336f21e1
LOCATION:
SUMMARY;LANGUAGE=en-us:Presentation Day
SEQUENCE:0
DESCRIPTION:Presentation Day
END:VEVENT
TRANSP:TRANSPARENT
END:VCALENDAR
