BEGIN:VCALENDAR
VERSION:2.0
PRODID:-//Department Of Education//48a16098-b6ce-47e1-aeef-047e01d8df78
BEGIN:VTIMEZONE
TZID:Australia/Sydney
TZURL:http://tzurl.org/zoneinfo-outlook/Australia/Sydney
X-LIC-LOCATION:Australia/Sydney
BEGIN:STANDARD
TZOFFSETFROM:+1100
TZOFFSETTO:+1000
TZNAME:AEST
DTSTART:19700405T030000
RRULE:FREQ=YEARLY;BYMONTH=4;BYDAY=1SU
END:STANDARD
BEGIN:DAYLIGHT
TZOFFSETFROM:+1000
TZOFFSETTO:+1100
TZNAME:AEDT
DTSTART:19701004T020000
RRULE:FREQ=YEARLY;BYMONTH=10;BYDAY=1SU
END:DAYLIGHT
END:VTIMEZONE
CALSCALE:GREGORIAN
X-WR-TIMEZONE:Australia/Sydney
BEGIN:VEVENT
DTSTART;TZID=Australia/Sydney:20161202T130000
DTEND;TZID=Australia/Sydney:20161202T150000
DTSTAMP:20161202T130000Z
UID:e27319a0-e16f-4f57-af14-c7eb0185bcd0
LOCATION:
SUMMARY;LANGUAGE=en-us:Swimming Scheme
SEQUENCE:0
DESCRIPTION:Swimming Scheme
END:VEVENT
TRANSP:TRANSPARENT
END:VCALENDAR
