BEGIN:VCALENDAR
VERSION:2.0
PRODID:-//Department Of Education//73d7dea4-047c-43dd-b360-08f4cbc37198
BEGIN:VTIMEZONE
TZID:Australia/Sydney
TZURL:http://tzurl.org/zoneinfo-outlook/Australia/Sydney
X-LIC-LOCATION:Australia/Sydney
BEGIN:STANDARD
TZOFFSETFROM:+1100
TZOFFSETTO:+1000
TZNAME:AEST
DTSTART:19700405T030000
RRULE:FREQ=YEARLY;BYMONTH=4;BYDAY=1SU
END:STANDARD
BEGIN:DAYLIGHT
TZOFFSETFROM:+1000
TZOFFSETTO:+1100
TZNAME:AEDT
DTSTART:19701004T020000
RRULE:FREQ=YEARLY;BYMONTH=10;BYDAY=1SU
END:DAYLIGHT
END:VTIMEZONE
CALSCALE:GREGORIAN
X-WR-TIMEZONE:Australia/Sydney
BEGIN:VEVENT
DTSTART;TZID=Australia/Sydney:20161206T130000
DTEND;TZID=Australia/Sydney:20161206T150000
DTSTAMP:20161206T130000Z
UID:e8a99b25-b313-4871-8863-ccc0926d3b7f
LOCATION:
SUMMARY;LANGUAGE=en-us:Swimming Scheme
SEQUENCE:0
DESCRIPTION:Swimming Scheme
END:VEVENT
TRANSP:TRANSPARENT
END:VCALENDAR
